Workbook

Sheet 10 JUNIO 2024
A1: Cód. | B1: Renglón | C1: Razón Social o Nombre del Acreedor | D1: Nit o Cédula de Ciudadanía | E1: Dirección de Notificación Acreedor | F1: Ciudad o Municipio de Notificación del Acreedor | G1: Saldo Capital por Pagar | H1: Capital Vencido | I1: Saldo por Pagar Intereses | J1: Valor Sanciones por Pagar | K1: Saldo a la Fecha de Corte de la Solicitud | L1: Tasa de Interés Pactado | M1: Fecha de Inicio de la Obligacion | N1: Fecha Vencimiento | O1: Nombre o Razón social Codeudores - Fiadores o Avalistas | P1: Documento de Identidad o Nit -Codeudor - Fiadores o Avalistas | Q1: Dirección de Notificación Codeudor - Fiadores o Avalistas | R1: Ciudad o Municipio de Notificacion del Codeudor | S1: GARANTIA
A2: 0 | B2: CREDITO N 1260087399 | C2: BANCOLOMBIA | D2: 890903938 | E2: CALLE 94 13 18 | F2: BOGOTA | G2: 3993221260 | H2: =+G2 -> 3993221260 | I2: =111266350+29949156 -> 141215506 | K2: =+G2+I2+J2 -> 4134436766 | L2: 0.015 | M2: 44014 | N2: 44744 | O2: INVERSIONES RUBAL | P2: 900480022 | Q2: transversal 1 # 114-23- apto 304 | R2: BOGOTA | S2: SOLIDARIA
A3: 1 | B3: CREDITO N 7300323042597950 | C3: BANCO DAVIVIENDA | D3: 860034313 | E3: CRA 15 93B 98 | F3: BOGOTA | G3: 400000000 | H3: =+G3 -> 400000000 | I3: =98000000+6960000 -> 104960000 | K3: =+G3+I3+J3 -> 504960000 | L3: 0.035 | M3: 44685 | N3: 44961
A4: 2 | B4: CREDITO N 7300323042802170 | C4: BANCO DAVIVIENDA | D4: 860034313 | E4: CRA 15 93B 98 | F4: BOGOTA | G4: 500000000 | H4: =+G4 -> 500000000 | I4: =53000000+8700000 -> 61700000 | K4: =+G4+I4+J4 -> 561700000 | L4: 0.035 | M4: 44693 | N4: 44969
A5: 3 | B5: CREDITO N 7300323042057970 | C5: BANCO DAVIVIENDA | D5: 860034313 | E5: CRA 15 93B 98 | F5: BOGOTA | G5: 2000000000 | H5: =+G5 -> 2000000000 | I5: =400000000+34800000 -> 434800000 | K5: =+G5+I5+J5 -> 2434800000 | L5: 0.035 | M5: 44670 | N5: 44976
A6: 4 | B6: CREDITO N 7300323044759260 | C6: BANCO DAVIVIENDA | D6: 860034313 | E6: CRA 15 93B 98 | F6: BOGOTA | G6: 100000000 | H6: =+G6 -> 100000000 | I6: =20000000+1740000 -> 21740000 | K6: =+G6+I6+J6 -> 121740000 | L6: 0.035 | M6: 44768 | N6: 44983
A7: 5 | B7: LEASING FINANCIERO 180-52499 | C7: BANCO DE OCCIDENTE LEASING | D7: 890300279 | E7: CR 11 90 55 | F7: BOGOTA | G7: 5045866938 | H7: =+G7 -> 5045866938 | I7: 804286139 | J7: 547042047 | K7: =+G7+I7+J7 -> 6397195124 | L7: 0.018 | M7: 45013 | N7: 45015
A8: 6 | B8: SOBREGIRO BANCOLOMBIA | C8: BANCOLOMBIA | D8: 890903938 | E8: CALLE 94 13 18 | F8: BOGOTA | G8: 150468020 | H8: =+G8 -> 150468020 | K8: =+G8+I8+J8 -> 150468020
A9: 7 | B9: PAGARE | C9: ALVAREZ VALDERRAMA ELEONORA | D9: 31889148 | E9: tansversal 1 # 114--23 apto 304 | F9: BOGOTA | G9: 334862610 | I9: 6585040 | K9: =+G9+I9+J9 -> 341447650 | L9: =+(1+15.9%)^(0.0833333333333333)-1 -> 0.012372376 | M9: 44866 | N9: 46298
A10: 8 | B10: PAGARE | C10: CERQUERA TAPIERO CESAR | D10: 12131578 | E10: Calle 141 # 7-71-T2 -apto 1301 | F10: BOGOTA | G10: 222888000 | H10: 222888000 | I10: 217791675 | K10: =+G10+I10+J10 -> 440679675 | L10: 0.0153 | M10: 44677 | N10: 45041
A11: 9 | B11: PAGARE | C11: CERQUERA TAPIERO CESAR | D11: 12131578 | E11: Calle 141 # 7-71-T2 -apto 1301 | F11: BOGOTA | G11: 236934888 | H11: 236934888 | I11: 0 | K11: =+G11+I11+J11 -> 236934888 | L11: 0.0153 | M11: 44770 | N11: 45134
A12: 10 | B12: PAGARE | C12: CERQUERA TAPIERO CESAR | D12: 12131578 | E12: Calle 141 # 7-71-T2 -apto 1301 | F12: BOGOTA | G12: 328115734 | H12: 328115734 | I12: 0 | K12: =+G12+I12+J12 -> 328115734 | L12: 0.0171 | M12: 44687 | N12: 45051
A13: 11 | B13: PAGARE | C13: CARDENAS SACHICA ANDERSON JAIME | D13: 79625800 | E13: ajcardenas72@gmail.com | F13: BOGOTA | G13: 76916000 | I13: 10447259 | K13: =+G13+I13+J13 -> 87363259 | L13: 0.0153 | M13: 44707 | N13: 45438
A14: 12 | B14: PAGARE | C14: CORDOBA RAMIREZ NOHORA PATRICIA | D14: 35499830 | E14: paticordobar@gmail.com | F14: BOGOTA | G14: 150000000 | H14: 150000000 | I14: 27015300 | K14: =+G14+I14+J14 -> 177015300 | L14: 0.015 | M14: 43865 | N14: 44195
A15: 13 | B15: PAGARE | C15: CORDOBA RAMIREZ MARIA ISABEL | D15: 35496405 | E15: mariaisa4439@hotmail.com | F15: BOGOTA | G15: 80000000 | H15: 80000000 | I15: 22088160 | K15: =+G15+I15+J15 -> 102088160 | L15: 0.015 | M15: 44218 | N15: 44218
A16: 14 | B16: PAGARE | C16: DUQUE DE CAMELO LUZ MARINA | D16: 41304119 | E16: dicdam@gmail.com | F16: BOGOTA | G16: 250000000 | H16: 250000000 | I16: 69025500 | K16: =+G16+I16+J16 -> 319025500 | L16: 0.015 | M16: 44469 | N16: 44469
A17: 15 | B17: PAGARE | C17: DUSSAN CALDERON CARLOS ALBERTO | D17: 12137629 | E17: carlosalbertodussan@gmail.com | F17: BOGOTA | G17: 150000000 | I17: 130646432 | K17: =+G17+I17+J17 -> 280646432 | L17: =+(1+16%)^(0.0833333333333333)-1 -> 0.012445138 | M17: 43662 | N17: 43815
A18: 16 | B18: PAGARE | C18: DUSSAN CALDERON CARLOS ALBERTO | D18: 12137629 | E18: carlosalbertodussan@gmail.com | F18: BOGOTA | G18: 70000000 | I18: 0 | K18: =+G18+I18+J18 -> 70000000 | L18: 0.03 | M18: 44244 | N18: 44333
A19: 17 | B19: PAGARE | C19: PATIÑO CLAUDIO | D19: 19445543 | E19: claudiopatinoa@yahoo.es | F19: BOGOTA | G19: 200000000 | H19: 200000000 | I19: 158830600 | K19: =+G19+I19+J19 -> 358830600 | L19: 0.03 | M19: 44986 | N19: 45168
A20: 18 | B20: PAGARE | C20: POVEDA SALAZAR ROBERTO | D20: 2085717 | E20: Cra 21 # 137-71 | F20: BOGOTA | G20: 4000000000 | H20: 4000000000 | I20: 1913085600 | K20: =+G20+I20+J20 -> 5913085600 | L20: 0.015 | M20: 43941 | N20: 44776 | O20: JORGE ENRIQUE RUBIO - LISA ALEJANDRA RUBIO GUTIERREZ | P20: 52622236 - 79444838 | Q20: CL 93A 14 17 | R20: BOGOTA | S20: SOLIDARIA
A21: 19 | B21: PAGARE | C21: RUBIO GUTIERREZ JORGE ENRIQUE | D21: 79444838 | E21: jorgeerubiog@hotmail.com | F21: BOGOTA | G21: 69988722 | H21: 69988722 | I21: 403941 | K21: =+G21+I21+J21 -> 70392663 | M21: 44669
A22: 20 | B22: PAGARE | C22: RUBIO DIAZ LUIS ENRIQUE | D22: 17063209 | E22: transversal 1 # 114-23- apto 304 | F22: BOGOTA | G22: 42240816 | H22: 42240816 | I22: 0 | K22: =+G22+I22+J22 -> 42240816 | M22: 44911
A23: 21 | B23: PAGARE | C23: ROSAS RODRIGUEZ AVELINO | D23: 17126213 | E23: Calle 24B # 72A-47 | F23: BOGOTA | G23: 215000000 | H23: 215000000 | I23: 65658600 | K23: =+G23+I23+J23 -> 280658600 | L23: 0.0124 | M23: 44408 | N23: 44773
A24: 22 | B24: PAGARE | C24: REYES MUÑOZ LEANDRO | D24: 80022675 | E24: reyes.leandro@gmail.com | F24: BOGOTA | G24: 12500000 | I24: 0 | K24: =+G24+I24+J24 -> 12500000 | L24: 0.04 | M24: 44245 | N24: 44334
A25: 23 | B25: PAGARE | C25: INVERSIONES SAVART S.A | D25: 900239408 | E25: inversiones@savart.co | F25: BOGOTA | G25: 1070918692 | I25: 634921842 | K25: =+G25+I25+J25 -> 1705840534 | L25: 0.01 | M25: 44651
A26: 24 | B26: PAGARE | C26: INVERSIONES RUBAL S.A.S | D26: 900480022 | E26: transversal 1 # 114-23- apto 304 | F26: BOGOTA | G26: 1500000000 | I26: 867275132 | K26: =+G26+I26+J26 -> 2367275132 | L26: 0.0125 | M26: 43600
A27: 25 | B27: PAGARE | C27: INVERSIONES RUBAL S.A.S | D27: 900480022 | E27: transversal 1 # 114-23- apto 304 | F27: BOGOTA | G27: 895146764 | I27: 0 | K27: =+G27+I27+J27 -> 895146764 | M27: 44866 | N27: 45473
A28: 26 | B28: PAGARE | C28: CARVAS S.A | D28: 900567047 | E28: CALLE 93A 14 17 | F28: BOGOTA | G28: 200000000 | I28: 41640000 | K28: =+G28+I28+J28 -> 241640000 | M28: 45098
A29: 999999 | B29: Obligaciones Financieras | G29: =SUM(G2:G28) -> 22295068444 | H29: =SUM(H2:H28) -> 17984724378 | I29: =SUM(I2:I28) -> 5734116726 | J29: =SUM(J2:J7) -> 547042047 | K29: =SUM(K2:K28) -> 28576227217
A30: 0 | B30: AVATAR - MANT EQUIPOS MH2110 | C30: ESGUERRA ALDANA MARIA HELENA | D30: 51764258 | E30: CALLE 93A 14 17 | F30: BOGOTA | G30: 1280434 | H30: =+G30 -> 1280434 | K30: =SUM(H30:J30) -> 1280434 | M30: 44620 | N30: =+M30+30 -> 44650
A31: 1 | B31: OFICINA - ASESORIA JUR HON ABOG ALTACOL - FVE156 | C31: SL CONSULTORES S.A.S | D31: 830106135 | E31: CRA 9 100 07 | F31: BOGOTA | G31: 3118243 | H31: =+G31 -> 3118243 | K31: =SUM(H31:J31) -> 3118243 | M31: 44999 | N31: =+M31+30 -> 45029
A32: 2 | B32: OFICINA - ASESORIA ORGANIZACIONAL-CTA-001-2024 | C32: OLIVERO GONZALEZ JENNY ALEJANDRA | D32: 1013595864 | E32: CALLE 93A 14 17 | F32: BOGOTA | G32: 100000 | H32: 100000 | K32: =SUM(H32:J32) -> 100000
A33: 3 | B33: AVATAR - AREEGLOS VARIOS MESONES - 13278 | C33: MEDITERRANEAN MARBLE COMPANY S.A.S | D33: 830511599 | E33: info@mediterraneanmarblesas.com | F33: BOGOTA | G33: 865148 | H33: =+G33 -> 865148 | K33: =SUM(H33:J33) -> 865148 | M33: 44284 | N33: =+M33+30 -> 44314
A34: 4 | B34: AVATAR - AREEGLOS VARIOS MESONES - 13337 | C34: MEDITERRANEAN MARBLE COMPANY S.A.S | D34: 830511599 | E34: info@mediterraneanmarblesas.com | F34: BOGOTA | G34: 1370137 | H34: =+G34 -> 1370137 | K34: =SUM(H34:J34) -> 1370137 | M34: 44375 | N34: =+M34+30 -> 44405
A35: 5 | B35: AVATAR - ARREGLOS VARIOS COCINA - FE1273 | C35: ARTEFACTOS AMERICAN LTDA. | D35: 860002066 | E35: servicioalcliente@arteamerican.com.co | F35: BOGOTA | G35: 2239955 | H35: =+G35 -> 2239955 | K35: =SUM(H35:J35) -> 2239955 | M35: 44628 | N35: =+M35+30 -> 44658
A36: 6 | B36: AVATAR - PISO LAMINADO ABEDULES 1610 - 5028696 | C36: ALTACOL NORVENTAS S.A.S | D36: 860050956 | E36: carlos.valencia@norventas.com | F36: BOGOTA | G36: 3484910 | H36: =+G36 -> 3484910 | K36: =SUM(H36:J36) -> 3484910 | M36: 44162 | N36: =+M36+30 -> 44192
A37: 7 | B37: JAMUNDI | C37: SANTOS LOPEZ CONSTRUDRYWALL | D37: 901084703 | G37: 37521323 | H37: =+G37 -> 37521323 | K37: =SUM(H37:J37) -> 37521323
A38: 8 | B38: OFICINA - ALMACENAMIENTO ARCHIVO - AE2179 | C38: ALMARCHIVOS SA | D38: 860510669 | E38: calle 17A # 58-58 | F38: BOGOTA | G38: 1328857 | H38: =+G38 -> 1328857 | K38: =SUM(H38:J38) -> 1328857 | M38: 44902 | N38: =+M38+30 -> 44932
A39: 9 | B39: OFICINA - ALMACENAMIENTO ARCHIVO - AE2279 | C39: ALMARCHIVOS SA | D39: 860510669 | E39: calle 17A # 58-58 | F39: BOGOTA | G39: 1339945 | H39: =+G39 -> 1339945 | K39: =SUM(H39:J39) -> 1339945 | M39: 44943 | N39: =+M39+30 -> 44973
A40: 10 | B40: OFICINA - ALMACENAMIENTO ARCHIVO - AE2334 | C40: ALMARCHIVOS SA | D40: 860510669 | E40: calle 17A # 58-58 | F40: BOGOTA | G40: 1339945 | H40: =+G40 -> 1339945 | K40: =SUM(H40:J40) -> 1339945 | M40: 44966 | N40: =+M40+30 -> 44996
...

Sheet CAL Y GRA
C2: Promotora Apotema S.A. en reorganización / Proyecto de calificación y graduación de créditos con ajustes de audiencia de resolución de objeciones
C3: Clase | D3: Nit o Cédula de Ciudadanía | E3: Razón Social o Nombre del Acreedor | F3: Renglón | G3: Dirección de Notificación Acreedor | H3: Ciudad o Municipio de Notificación del Acreedor | I3: APODERADO/REPRESENTANTE | J3: Capital reconocido por Promotor | K3: Tasa de Interés Pactado | L3: Fecha de Inicio de la Obligación | M3: Fecha Vencimiento | N3: Capital en UVR´s | O3: Nombre o Razón social Codeudores - Fiadores o Avalistas | P3: Documento de Identidad o Nit -Codeudor - Fiadores o Avalistas | Q3: Dirección de Notificación Codeudor - Fiadores o Avalistas | R3: Ciudad o Municipio de Notificacion del Codeudor | S3: BIEN DADO EN GARANTIA (NINGUN ACREEDOR)
C4: CREDITOS DE PRIMERA CLASE
C5: PRIMERA CLASE - LABORALES | D5: 31889148 | E5: ALVAREZ VALDERRAMA ELEONORA | F5: NOMINA - SALARIOS X PAGAR | G5: transversal 1 # 114 -23 -apto 304 | H5: BOGOTA | J5: 119975368 | L5: 45168 | M5: 45168
F6: NOMINA - CESANTIAS CONSOLIDADAS | G6: transversal 1 # 114 -23 -apto 304 | H6: BOGOTA | J6: 19999960 | L6: 45046 | M6: 45076
F7: NOMINA - INTERESES CONSOLIDADAS | G7: transversal 1 # 114 -23 -apto 304 | H7: BOGOTA | J7: 2399995 | L7: 45046 | M7: =+L7+30 -> 45076
F8: NOMINA - PRIMA CONSOLIDADAS | G8: transversal 1 # 114-23 -apto 304 | H8: BOGOTA | J8: 4999980 | L8: 45046 | M8: =+L8 -> 45046
F9: NOMINA -VACACIONES CONSOLIDADAS | G9: transversal 1 # 114-23 -apto 304 | H9: BOGOTA | J9: 7846666 | L9: 45260 | M9: 45169
E10: Total ALVAREZ VALDERRAMA ELEONORA | F10: Total | J10: =SUM(J5:J9) -> 155221969
C12: PRIMERA CLASE - LABORALES | D12: 60392671 | E12: ARAMBULA YAÑEZ ERIKA TRINIDAD | F12: NOMINA - SALARIOS X PAGAR | G12: calle 115 # 11A -71 | H12: BOGOTA | J12: 1983333 | L12: 45046 | M12: =+L12+30 -> 45076
F13: NOMINA - CESANTIAS CONSOLIDADAS | G13: calle 115 # 11A -71 | H13: BOGOTA | J13: 8500000 | L13: 45047 | M13: =+L13+30 -> 45077
F14: NOMINA - INTERESES CONSOLIDADAS | G14: calle 115 # 11A -71 | H14: BOGOTA | J14: 100000 | L14: 45169 | M14: 45169
F15: NOMINA - PRIMA CONSOLIDADAS | G15: calle 115 # 11A -71 | H15: BOGOTA | J15: 986087 | L15: 45260 | M15: =+L15 -> 45260
F16: NOMINA -VACACIONES CONSOLIDADAS | G16: calle 115 # 11A -71 | H16: BOGOTA | J16: 1211666 | L16: 45260 | M16: =+L16+30 -> 45290
E17: Total ARAMBULA YAÑEZ ERIKA TRINIDAD | F17: Total | J17: =SUM(J12:J16) -> 12781086
C19: PRIMERA CLASE - LABORALES | D19: 51820263 | E19: BOLAÑOS ALVEAR ALBA LILIA | F19: NOMINA - SALARIOS X PAGAR | G19: albabolasanty@gmail.com | H19: BOGOTA | J19: 2423809 | L19: 45168 | M19: 45168
F20: NOMINA - CESANTIAS CONSOLIDADAS | G20: albabolasanty@gmail.com | H20: BOGOTA | J20: 1528333 | L20: 45169 | M20: 45169
F21: NOMINA - INTERESES CONSOLIDADAS | G21: albabolasanty@gmail.com | H21: BOGOTA | J21: 183400 | L21: 45046 | M21: =+L21+30 -> 45076
F22: NOMINA - PRIMA CONSOLIDADAS | G22: albabolasanty@gmail.com | H22: BOGOTA | J22: 1544444 | L22: 45046 | M22: =+L22 -> 45046
F23: NOMINA -VACACIONES CONSOLIDADAS | G23: albabolasanty@gmail.com | H23: BOGOTA | J23: 182358 | L23: 45260 | M23: 45169
E24: Total BOLAÑOS ALVEAR ALBA LILIA | F24: Total | J24: =SUM(J19:J23) -> 5862344
C26: PRIMERA CLASE - LABORALES | D26: 66847523 | E26: CALVO DIAZ CRISTINA ELIZABETH | F26: NOMINA - CESANTIAS CONSOLIDADAS | G26: Carrera 26G #83-25 - Cali | H26: BOGOTA | J26: 354000 | L26: 45046 | M26: =+L26+30 -> 45076
F27: NOMINA - SALARIO MARZO Y ABRIL DE 2023 | G27: Carrera 26G #83-25 - Cali | H27: BOGOTA | J27: 3908160 | L27: 45047 | M27: =+L27+30 -> 45077
F28: NOMINA - PRIMA CONSOLIDADAS | G28: Carrera 26G #83-25 - Cali | H28: BOGOTA | J28: 354000 | L28: 45046 | M28: =+L28 -> 45046
F29: NOMINA - COMISIONES LABORALES | G29: Carrera 26G #83-25 - Cali | J29: 758846 | M29: 45290
F30: NOMINA - INDEMNIZACION LABORAL | G30: Carrera 26G #83-25 - Cali | J30: 196667 | M30: 45290
F31: NOMINA -VACACIONES CONSOLIDADAS | G31: Carrera 26G #83-25 - Cali | H31: BOGOTA | J31: 491667 | L31: 45260 | M31: =+L31+30 -> 45290
E32: Total CALVO DIAZ CRISTINA ELIZABETH | F32: Total | J32: =SUM(J26:J31) -> 6063340
C34: PRIMERA CLASE - LABORALES | D34: 79625800 | E34: CARDENAS SACHICA ANDERSON JAIME | F34: NOMINA - SALARIOS X PAGAR | G34: ajcardenas72@gmail.com | H34: BOGOTA | J34: 123168687 | L34: 45169 | M34: 45169
F35: NOMINA - CESANTIAS CONSOLIDADAS | G35: ajcardenas72@gmail.com | H35: BOGOTA | J35: 12833292 | L35: 45169 | M35: 45169
F36: NOMINA - INTERESES CONSOLIDADAS | G36: ajcardenas72@gmail.com | H36: BOGOTA | J36: 1539995 | L36: 45169 | M36: 45169
F37: NOMINA - PRIMA CONSOLIDADAS | G37: ajcardenas72@gmail.com | H37: BOGOTA | J37: 12833292 | L37: 45260 | M37: =+L37 -> 45260
F38: NOMINA -VACACIONES CONSOLIDADAS | G38: ajcardenas72@gmail.com | H38: BOGOTA | J38: 23930001 | L38: 45260 | M38: 45169
E39: Total CARDENAS SACHICA ANDERSON JAIME | F39: Total | J39: =SUM(J34:J38) -> 174305267
C41: PRIMERA CLASE - LABORALES | D41: 34321896 | E41: CASTRO COBO DIANA MARIA | F41: NOMINA - CESANTIAS CONSOLIDADAS | G41: Calle 20 # 50A-18 Sur -jamundi | H41: BOGOTA | J41: 1049996 | L41: 45169 | M41: 45169
F42: NOMINA - INTERESES CONSOLIDADAS | G42: Calle 20 # 50A-18 Sur -jamundi | H42: BOGOTA | J42: 42000 | L42: 45046 | M42: =+L42+30 -> 45076
F43: NOMINA - PRIMA CONSOLIDADAS | G43: Calle 20 # 50A-18 Sur -jamundi | H43: BOGOTA | J43: 1049996 | L43: 45260 | M43: =+L43 -> 45260
F44: NOMINA -VACACIONES CONSOLIDADAS | G44: Calle 20 # 50A-18 Sur -jamundi | H44: BOGOTA | J44: 2519733 | L44: 45046 | M44: =+L44+30 -> 45076
E45: Total CASTRO COBO DIANA MARIA | F45: Total | J45: =SUM(J41:J44) -> 4661725
C47: PRIMERA CLASE - LABORALES | D47: 12131578 | E47: CERQUERA TAPIERO CESAR | F47: NOMINA - OTROS | G47: Calle 141 # 7-71-T2 -apto 1301 | H47: BOGOTA | J47: 5000000 | L47: 45290 | M47: =+L47 -> 45290
...

Sheet VOTOS def
C2: Promotora Apotema S.A. en reorganización / Asignación de derechos de voto | R2: 1
C3: Clase | D3: Nit o Cédula de Ciudadanía | E3: Razón Social o Nombre del Acreedor | F3: Renglón | G3: Dirección de Notificación Acreedor | H3: Ciudad o Municipio de Notificación del Acreedor | I3: APODERADO/REPRESENTANTE | J3: Capital reconocido por Promotor | K3: Tasa de Interés Pactado | L3: Fecha de Inicio de la Obligación | M3: Fecha Vencimiento | N3: Saldo capital vencido | O3: Año inicial | P3: Capital actualizado con IPC | R3: Derechos de Voto | S3: Vinculación | T3: Capital en UVR´s | U3: Nombre o Razón social Codeudores - Fiadores o Avalistas | V3: Documento de Identidad o Nit -Codeudor - Fiadores o Avalistas | W3: Dirección de Notificación Codeudor - Fiadores o Avalistas | X3: Ciudad o Municipio de Notificacion del Codeudor | Y3: BIEN DADO EN GARANTIA (NINGUN ACREEDOR)
B5: ACREEDORES LABORALES | C5: PRIMERA CLASE - LABORALES | D5: 31889148 | E5: ALVAREZ VALDERRAMA ELEONORA | F5: NOMINA - SALARIOS X PAGAR | G5: transversal 1 # 114 -23 -apto 304 | H5: BOGOTA | J5: 119975368 | L5: 45168 | M5: 45168 | N5: =+J5 -> 119975368 | O5: 2023 | P5: =N5*VLOOKUP(O5,IPC_2024!$A:$C,3,FALSE) -> 1.2621409e+08 | R5: =IF(Q5="TOTAL",P5/$P$1153,"")
F6: NOMINA - CESANTIAS CONSOLIDADAS | G6: transversal 1 # 114 -23 -apto 304 | H6: BOGOTA | J6: 19999960 | L6: 45046 | M6: 45076 | N6: =+J6 -> 19999960 | O6: 2023 | P6: =N6*VLOOKUP(O6,IPC_2024!$A:$C,3,FALSE) -> 21039958 | R6: =IF(Q6="TOTAL",P6/$P$1153,"")
F7: NOMINA - INTERESES CONSOLIDADAS | G7: transversal 1 # 114 -23 -apto 304 | H7: BOGOTA | J7: 2399995 | L7: 45046 | M7: =+L7+30 -> 45076 | N7: =+J7 -> 2399995 | O7: 2023 | P7: =N7*VLOOKUP(O7,IPC_2024!$A:$C,3,FALSE) -> 2524794.7 | R7: =IF(Q7="TOTAL",P7/$P$1153,"")
F8: NOMINA - PRIMA CONSOLIDADAS | G8: transversal 1 # 114-23 -apto 304 | H8: BOGOTA | J8: 4999980 | L8: 45046 | M8: =+L8 -> 45046 | N8: =+J8 -> 4999980 | O8: 2023 | P8: =N8*VLOOKUP(O8,IPC_2024!$A:$C,3,FALSE) -> 5259979 | R8: =IF(Q8="TOTAL",P8/$P$1153,"")
F9: NOMINA -VACACIONES CONSOLIDADAS | G9: transversal 1 # 114-23 -apto 304 | H9: BOGOTA | J9: 7846666 | L9: 45260 | M9: 45169 | N9: =+J9 -> 7846666 | O9: 2023 | P9: =N9*VLOOKUP(O9,IPC_2024!$A:$C,3,FALSE) -> 8254692.6 | R9: =IF(Q9="TOTAL",P9/$P$1153,"")
E10: Total ALVAREZ VALDERRAMA ELEONORA | F10: Total | J10: =SUM(J5:J9) -> 155221969 | N10: =SUM(N5:N9) -> 155221969 | P10: =SUM(P5:P9) -> 1.6329351e+08 | Q10: TOTAL | R10: =IF(Q10="TOTAL",P10/$P$1153,"") -> 0.0024512103 | S10: VINCULADA
R11: =IF(Q11="TOTAL",P11/$P$1153,"")
C12: PRIMERA CLASE - LABORALES | D12: 60392671 | E12: ARAMBULA YAÑEZ ERIKA TRINIDAD | F12: NOMINA - SALARIOS X PAGAR | G12: calle 115 # 11A -71 | H12: BOGOTA | J12: 1983333 | L12: 45046 | M12: =+L12+30 -> 45076 | N12: =+J12 -> 1983333 | O12: 2023 | P12: =N12*VLOOKUP(O12,IPC_2024!$A:$C,3,FALSE) -> 2086466.3 | R12: =IF(Q12="TOTAL",P12/$P$1153,"")
F13: NOMINA - CESANTIAS CONSOLIDADAS | G13: calle 115 # 11A -71 | H13: BOGOTA | J13: 8500000 | L13: 45047 | M13: =+L13+30 -> 45077 | N13: =+J13 -> 8500000 | O13: 2023 | P13: =N13*VLOOKUP(O13,IPC_2024!$A:$C,3,FALSE) -> 8942000 | R13: =IF(Q13="TOTAL",P13/$P$1153,"")
F14: NOMINA - INTERESES CONSOLIDADAS | G14: calle 115 # 11A -71 | H14: BOGOTA | J14: 100000 | L14: 45169 | M14: 45169 | N14: =+J14 -> 100000 | O14: 2023 | P14: =N14*VLOOKUP(O14,IPC_2024!$A:$C,3,FALSE) -> 105200 | R14: =IF(Q14="TOTAL",P14/$P$1153,"")
F15: NOMINA - PRIMA CONSOLIDADAS | G15: calle 115 # 11A -71 | H15: BOGOTA | J15: 986087 | L15: 45260 | M15: =+L15 -> 45260 | N15: =+J15 -> 986087 | O15: 2023 | P15: =N15*VLOOKUP(O15,IPC_2024!$A:$C,3,FALSE) -> 1037363.5 | R15: =IF(Q15="TOTAL",P15/$P$1153,"")
F16: NOMINA -VACACIONES CONSOLIDADAS | G16: calle 115 # 11A -71 | H16: BOGOTA | J16: 1211666 | L16: 45260 | M16: =+L16+30 -> 45290 | N16: =+J16 -> 1211666 | O16: 2023 | P16: =N16*VLOOKUP(O16,IPC_2024!$A:$C,3,FALSE) -> 1274672.6 | R16: =IF(Q16="TOTAL",P16/$P$1153,"")
E17: Total ARAMBULA YAÑEZ ERIKA TRINIDAD | F17: Total | J17: =SUM(J12:J16) -> 12781086 | N17: =SUM(N12:N16) -> 12781086 | P17: =SUM(P12:P16) -> 13445702 | Q17: TOTAL | R17: =IF(Q17="TOTAL",P17/$P$1153,"") -> 0.00020183438
R18: =IF(Q18="TOTAL",P18/$P$1153,"")
C19: PRIMERA CLASE - LABORALES | D19: 51820263 | E19: BOLAÑOS ALVEAR ALBA LILIA | F19: NOMINA - SALARIOS X PAGAR | G19: albabolasanty@gmail.com | H19: BOGOTA | J19: 2423809 | L19: 45168 | M19: 45168 | N19: =+J19 -> 2423809 | O19: 2023 | P19: =N19*VLOOKUP(O19,IPC_2024!$A:$C,3,FALSE) -> 2549847.1 | R19: =IF(Q19="TOTAL",P19/$P$1153,"")
F20: NOMINA - CESANTIAS CONSOLIDADAS | G20: albabolasanty@gmail.com | H20: BOGOTA | J20: 1528333 | L20: 45169 | M20: 45169 | N20: =+J20 -> 1528333 | O20: 2023 | P20: =N20*VLOOKUP(O20,IPC_2024!$A:$C,3,FALSE) -> 1607806.3 | R20: =IF(Q20="TOTAL",P20/$P$1153,"")
F21: NOMINA - INTERESES CONSOLIDADAS | G21: albabolasanty@gmail.com | H21: BOGOTA | J21: 183400 | L21: 45046 | M21: =+L21+30 -> 45076 | N21: =+J21 -> 183400 | O21: 2023 | P21: =N21*VLOOKUP(O21,IPC_2024!$A:$C,3,FALSE) -> 192936.8 | R21: =IF(Q21="TOTAL",P21/$P$1153,"")
F22: NOMINA - PRIMA CONSOLIDADAS | G22: albabolasanty@gmail.com | H22: BOGOTA | J22: 1544444 | L22: 45046 | M22: =+L22 -> 45046 | N22: =+J22 -> 1544444 | O22: 2023 | P22: =N22*VLOOKUP(O22,IPC_2024!$A:$C,3,FALSE) -> 1624755.1 | R22: =IF(Q22="TOTAL",P22/$P$1153,"")
F23: NOMINA -VACACIONES CONSOLIDADAS | G23: albabolasanty@gmail.com | H23: BOGOTA | J23: 182358 | L23: 45260 | M23: 45169 | N23: =+J23 -> 182358 | O23: 2023 | P23: =N23*VLOOKUP(O23,IPC_2024!$A:$C,3,FALSE) -> 191840.62 | R23: =IF(Q23="TOTAL",P23/$P$1153,"")
E24: Total BOLAÑOS ALVEAR ALBA LILIA | F24: Total | J24: =SUM(J19:J23) -> 5862344 | N24: =SUM(N19:N23) -> 5862344 | P24: =SUM(P19:P23) -> 6167185.9 | Q24: TOTAL | R24: =IF(Q24="TOTAL",P24/$P$1153,"") -> 9.2576059e-05
R25: =IF(Q25="TOTAL",P25/$P$1153,"")
C26: PRIMERA CLASE - LABORALES | D26: 66847523 | E26: CALVO DIAZ CRISTINA ELIZABETH | F26: NOMINA - CESANTIAS CONSOLIDADAS | G26: Carrera 26G #83-25 - Cali | H26: BOGOTA | J26: 354000 | L26: 45046 | M26: =+L26+30 -> 45076 | N26: =+J26 -> 354000 | O26: 2023 | P26: =N26*VLOOKUP(O26,IPC_2024!$A:$C,3,FALSE) -> 372408 | R26: =IF(Q26="TOTAL",P26/$P$1153,"")
F27: NOMINA - SALARIO MARZO Y ABRIL DE 2023 | G27: Carrera 26G #83-25 - Cali | H27: BOGOTA | J27: 3908160 | L27: 45047 | M27: =+L27+30 -> 45077 | N27: =+J27 -> 3908160 | O27: 2023 | P27: =N27*VLOOKUP(O27,IPC_2024!$A:$C,3,FALSE) -> 4111384.3 | R27: =IF(Q27="TOTAL",P27/$P$1153,"")
F28: NOMINA - PRIMA CONSOLIDADAS | G28: Carrera 26G #83-25 - Cali | H28: BOGOTA | J28: 354000 | L28: 45046 | M28: =+L28 -> 45046 | N28: =+J28 -> 354000 | O28: 2023 | P28: =N28*VLOOKUP(O28,IPC_2024!$A:$C,3,FALSE) -> 372408 | R28: =IF(Q28="TOTAL",P28/$P$1153,"")
F29: NOMINA - COMISIONES LABORALES | G29: Carrera 26G #83-25 - Cali | J29: 758846 | M29: 45290 | N29: =+J29 -> 758846 | O29: 2023 | P29: =N29*VLOOKUP(O29,IPC_2024!$A:$C,3,FALSE) -> 798305.99 | R29: =IF(Q29="TOTAL",P29/$P$1153,"")
F30: NOMINA - INDEMNIZACION LABORAL | G30: Carrera 26G #83-25 - Cali | J30: 196667 | M30: 45290 | N30: =+J30 -> 196667 | O30: 2023 | P30: =N30*VLOOKUP(O30,IPC_2024!$A:$C,3,FALSE) -> 206893.68 | R30: =IF(Q30="TOTAL",P30/$P$1153,"")
F31: NOMINA -VACACIONES CONSOLIDADAS | G31: Carrera 26G #83-25 - Cali | H31: BOGOTA | J31: 491667 | L31: 45260 | M31: =+L31+30 -> 45290 | N31: =+J31 -> 491667 | O31: 2023 | P31: =N31*VLOOKUP(O31,IPC_2024!$A:$C,3,FALSE) -> 517233.68 | R31: =IF(Q31="TOTAL",P31/$P$1153,"")
E32: Total CALVO DIAZ CRISTINA ELIZABETH | F32: Total | J32: =SUM(J26:J31) -> 6063340 | N32: =SUM(N26:N31) -> 6063340 | P32: =SUM(P26:P31) -> 6378633.7 | Q32: TOTAL | R32: =IF(Q32="TOTAL",P32/$P$1153,"") -> 9.5750116e-05
R33: =IF(Q33="TOTAL",P33/$P$1153,"")
C34: PRIMERA CLASE - LABORALES | D34: 79625800 | E34: CARDENAS SACHICA ANDERSON JAIME | F34: NOMINA - SALARIOS X PAGAR | G34: ajcardenas72@gmail.com | H34: BOGOTA | J34: 123168687 | L34: 45169 | M34: 45169 | N34: =+J34 -> 123168687 | O34: 2023 | P34: =N34*VLOOKUP(O34,IPC_2024!$A:$C,3,FALSE) -> 1.2957346e+08 | R34: =IF(Q34="TOTAL",P34/$P$1153,"")
F35: NOMINA - CESANTIAS CONSOLIDADAS | G35: ajcardenas72@gmail.com | H35: BOGOTA | J35: 12833292 | L35: 45169 | M35: 45169 | N35: =+J35 -> 12833292 | O35: 2023 | P35: =N35*VLOOKUP(O35,IPC_2024!$A:$C,3,FALSE) -> 13500623 | R35: =IF(Q35="TOTAL",P35/$P$1153,"")
F36: NOMINA - INTERESES CONSOLIDADAS | G36: ajcardenas72@gmail.com | H36: BOGOTA | J36: 1539995 | L36: 45169 | M36: 45169 | N36: =+J36 -> 1539995 | O36: 2023 | P36: =N36*VLOOKUP(O36,IPC_2024!$A:$C,3,FALSE) -> 1620074.7 | R36: =IF(Q36="TOTAL",P36/$P$1153,"")
F37: NOMINA - PRIMA CONSOLIDADAS | G37: ajcardenas72@gmail.com | H37: BOGOTA | J37: 12833292 | L37: 45260 | M37: =+L37 -> 45260 | N37: =+J37 -> 12833292 | O37: 2023 | P37: =N37*VLOOKUP(O37,IPC_2024!$A:$C,3,FALSE) -> 13500623 | R37: =IF(Q37="TOTAL",P37/$P$1153,"")
F38: NOMINA -VACACIONES CONSOLIDADAS | G38: ajcardenas72@gmail.com | H38: BOGOTA | J38: 23930001 | L38: 45260 | M38: 45169 | N38: =+J38 -> 23930001 | O38: 2023 | P38: =N38*VLOOKUP(O38,IPC_2024!$A:$C,3,FALSE) -> 25174361 | R38: =IF(Q38="TOTAL",P38/$P$1153,"")
E39: Total CARDENAS SACHICA ANDERSON JAIME | F39: Total | J39: =SUM(J34:J38) -> 174305267 | N39: =SUM(N34:N38) -> 174305267 | P39: =SUM(P34:P38) -> 1.8336914e+08 | Q39: TOTAL | R39: =IF(Q39="TOTAL",P39/$P$1153,"") -> 0.002752567 | S39: VINCULADO
R40: =IF(Q40="TOTAL",P40/$P$1153,"")
C41: PRIMERA CLASE - LABORALES | D41: 34321896 | E41: CASTRO COBO DIANA MARIA | F41: NOMINA - CESANTIAS CONSOLIDADAS | G41: Calle 20 # 50A-18 Sur -jamundi | H41: BOGOTA | J41: 1049996 | L41: 45169 | M41: 45169 | N41: =+J41 -> 1049996 | O41: 2023 | P41: =N41*VLOOKUP(O41,IPC_2024!$A:$C,3,FALSE) -> 1104595.8 | R41: =IF(Q41="TOTAL",P41/$P$1153,"")
F42: NOMINA - INTERESES CONSOLIDADAS | G42: Calle 20 # 50A-18 Sur -jamundi | H42: BOGOTA | J42: 42000 | L42: 45046 | M42: =+L42+30 -> 45076 | N42: =+J42 -> 42000 | O42: 2023 | P42: =N42*VLOOKUP(O42,IPC_2024!$A:$C,3,FALSE) -> 44184 | R42: =IF(Q42="TOTAL",P42/$P$1153,"")
...

Sheet IPC_2024
A1: Año | B1: Inflación | C1: Factor
A2: 2015 | B2: 6.77 | C2: {=IF(A2=2024,1,PRODUCT(1+B3:INDEX($B:$B,MATCH(2024,$A:$A,0))/100))} -> 1.6453591
A3: 2016 | B3: 5.75 | C3: {=IF(A3=2024,1,PRODUCT(1+B4:INDEX($B:$B,MATCH(2024,$A:$A,0))/100))} -> 1.5558951
A4: 2017 | B4: 4.09 | C4: {=IF(A4=2024,1,PRODUCT(1+B5:INDEX($B:$B,MATCH(2024,$A:$A,0))/100))} -> 1.4947595
A5: 2018 | B5: 3.18 | C5: {=IF(A5=2024,1,PRODUCT(1+B6:INDEX($B:$B,MATCH(2024,$A:$A,0))/100))} -> 1.4486911
A6: 2019 | B6: 3.8 | C6: {=IF(A6=2024,1,PRODUCT(1+B7:INDEX($B:$B,MATCH(2024,$A:$A,0))/100))} -> 1.3956562
A7: 2020 | B7: 1.61 | C7: {=IF(A7=2024,1,PRODUCT(1+B8:INDEX($B:$B,MATCH(2024,$A:$A,0))/100))} -> 1.3735421
A8: 2021 | B8: 5.62 | C8: {=IF(A8=2024,1,PRODUCT(1+B9:INDEX($B:$B,MATCH(2024,$A:$A,0))/100))} -> 1.3004565
A9: 2022 | B9: 13.12 | C9: {=IF(A9=2024,1,PRODUCT(1+B10:INDEX($B:$B,MATCH(2024,$A:$A,0))/100))} -> 1.1496256
A10: 2023 | B10: 9.28 | C10: {=IF(A10=2024,1,PRODUCT(1+B11:INDEX($B:$B,MATCH(2024,$A:$A,0))/100))} -> 1.052
A11: 2024 | B11: 5.2 | C11: {=IF(A11=2024,1,PRODUCT(1+B12:INDEX($B:$B,MATCH(2024,$A:$A,0))/100))} -> 1

Sheet IPC
A1: A (Año) | B1: B (Inflación anual, sin %) | C1: C (Factor a 2024)
A2: 2015 | B2: 6.77 | C2: {=IF(A2=2024,1,PRODUCT(1+$B3:INDEX($B:$B,MATCH(2024,$A:$A,0))/100))} -> 1.6453591
A3: 2016 | B3: 5.75 | C3: {=IF(A3=2024,1,PRODUCT(1+$B4:INDEX($B:$B,MATCH(2024,$A:$A,0))/100))} -> 1.5558951
A4: 2017 | B4: 4.09 | C4: {=IF(A4=2024,1,PRODUCT(1+$B5:INDEX($B:$B,MATCH(2024,$A:$A,0))/100))} -> 1.4947595
A5: 2018 | B5: 3.18 | C5: {=IF(A5=2024,1,PRODUCT(1+$B6:INDEX($B:$B,MATCH(2024,$A:$A,0))/100))} -> 1.4486911
A6: 2019 | B6: 3.8 | C6: {=IF(A6=2024,1,PRODUCT(1+$B7:INDEX($B:$B,MATCH(2024,$A:$A,0))/100))} -> 1.3956562
A7: 2020 | B7: 1.61 | C7: {=IF(A7=2024,1,PRODUCT(1+$B8:INDEX($B:$B,MATCH(2024,$A:$A,0))/100))} -> 1.3735421
A8: 2021 | B8: 5.62 | C8: {=IF(A8=2024,1,PRODUCT(1+$B9:INDEX($B:$B,MATCH(2024,$A:$A,0))/100))} -> 1.3004565
A9: 2022 | B9: 13.12 | C9: {=IF(A9=2024,1,PRODUCT(1+$B10:INDEX($B:$B,MATCH(2024,$A:$A,0))/100))} -> 1.1496256
A10: 2023 | B10: 9.28 | C10: {=IF(A10=2024,1,PRODUCT(1+$B11:INDEX($B:$B,MATCH(2024,$A:$A,0))/100))} -> 1.052
A11: 2024 | B11: 5.2 | C11: {=IF(A11=2024,1,PRODUCT(1+$B12:INDEX($B:$B,MATCH(2024,$A:$A,0))/100))} -> 1
